BEGIN:VCALENDAR
VERSION:2.0
PRODID:-//Shore Builders Association of Central NJ, Inc. - ECPv6.8.3//NONSGML v1.0//EN
CALSCALE:GREGORIAN
METHOD:PUBLISH
X-WR-CALNAME:Shore Builders Association of Central NJ, Inc.
X-ORIGINAL-URL:https://shorebuilders.org
X-WR-CALDESC:Events for Shore Builders Association of Central NJ, Inc.
REFRESH-INTERVAL;VALUE=DURATION:PT1H
X-Robots-Tag:noindex
X-PUBLISHED-TTL:PT1H
BEGIN:VTIMEZONE
TZID:UTC
BEGIN:STANDARD
TZOFFSETFROM:+0000
TZOFFSETTO:+0000
TZNAME:UTC
DTSTART:20200101T000000
END:STANDARD
END:VTIMEZONE
BEGIN:VEVENT
DTSTART;TZID=UTC:20201124T163000
DTEND;TZID=UTC:20201124T183000
DTSTAMP:20260422T111129
CREATED:20201111T153803Z
LAST-MODIFIED:20201111T155552Z
UID:1107-1606235400-1606242600@shorebuilders.org
SUMMARY:SBACNJ Young Professionals (YP) Virtual Roll Call
DESCRIPTION:How is everybody doing?  How has business been?  Let’s hear from each other. \nGrab a drink and let’s hear the positive stuff! \nZoom information will be sent upon request if you are not currently part of the Young Professionals Committee. \nContact either Gina or Christine for participation information.
URL:https://shorebuilders.org/event/sbacnj-young-professionals-yp-roll-call-and-virtual-happy-hour/
CATEGORIES:Member Events
ATTACH;FMTTYPE=image/jpeg:https://shorebuilders.org/wp-content/uploads/2020/11/YP-virtual-Happy-Hour-Photo.jpg
END:VEVENT
END:VCALENDAR