BEGIN:VCALENDAR
VERSION:2.0
PRODID:-//Shore Builders Association of Central NJ, Inc. - ECPv6.8.3//NONSGML v1.0//EN
CALSCALE:GREGORIAN
METHOD:PUBLISH
X-WR-CALNAME:Shore Builders Association of Central NJ, Inc.
X-ORIGINAL-URL:https://shorebuilders.org
X-WR-CALDESC:Events for Shore Builders Association of Central NJ, Inc.
REFRESH-INTERVAL;VALUE=DURATION:PT1H
X-Robots-Tag:noindex
X-PUBLISHED-TTL:PT1H
BEGIN:VTIMEZONE
TZID:UTC
BEGIN:STANDARD
TZOFFSETFROM:+0000
TZOFFSETTO:+0000
TZNAME:UTC
DTSTART:20210101T000000
END:STANDARD
END:VTIMEZONE
BEGIN:VEVENT
DTSTART;TZID=UTC:20210112T093000
DTEND;TZID=UTC:20210112T103000
DTSTAMP:20260422T075650
CREATED:20201111T142939Z
LAST-MODIFIED:20201111T154127Z
UID:1077-1610443800-1610447400@shorebuilders.org
SUMMARY:PWB of the Garden State Virtual Council Meeting
DESCRIPTION:
URL:https://shorebuilders.org/event/pwb-of-the-garden-state-virtual-council-meeting-2/
CATEGORIES:Committee Meetings,Member Events,Professional Women in Building
ATTACH;FMTTYPE=image/jpeg:https://shorebuilders.org/wp-content/uploads/2019/04/pwb-placeholder.jpg
END:VEVENT
BEGIN:VEVENT
DTSTART;TZID=UTC:20210119T093000
DTEND;TZID=UTC:20210119T110000
DTSTAMP:20260422T075650
CREATED:20201028T160851Z
LAST-MODIFIED:20210108T141109Z
UID:1060-1611048600-1611054000@shorebuilders.org
SUMMARY:SBACNJ Virtual Economic Forecast with Dr. Dietz
DESCRIPTION:Don’t miss this critical information for your business and join us for a virtual economic and housing forecast by NAHB Chief Economic expert\, Dr. Robert Dietz. Dr. Dietz will address your business concerns for the coming year and how the pandemic will continue to affect housing. \n  \nStay ahead of your competitors with this extremely valuable information for all building industry professionals for just $20 per company. Register by January 18th at 12:00pm. Each company must register one individual and then may register as many additional attendees at no charge under the company/team registration selection.  All registrants will receive an email prior to the Economic Housing Forecast with log in information. \nRegister HERE
URL:https://shorebuilders.org/event/sbacnj-virtual-economic-forecast-with-dr-dietz/
CATEGORIES:Member Events
ATTACH;FMTTYPE=image/jpeg:https://shorebuilders.org/wp-content/uploads/2020/10/Dr-Dietz.jpg
END:VEVENT
BEGIN:VEVENT
DTSTART;TZID=UTC:20210121T163000
DTEND;TZID=UTC:20210121T183000
DTSTAMP:20260422T075650
CREATED:20201202T150352Z
LAST-MODIFIED:20201202T150635Z
UID:1143-1611246600-1611253800@shorebuilders.org
SUMMARY:YP Virtual Roll Call
DESCRIPTION:Come join the YP Committee virtually and share how you and your organization are doing.  If you are interested in participating\, please contact gina@shorebuilders.org for participation information.
URL:https://shorebuilders.org/event/yp-virtual-roll-call/
CATEGORIES:Member Events
END:VEVENT
END:VCALENDAR