BEGIN:VCALENDAR
VERSION:2.0
PRODID:-//Shore Builders Association of Central NJ, Inc. - ECPv6.8.3//NONSGML v1.0//EN
CALSCALE:GREGORIAN
METHOD:PUBLISH
X-WR-CALNAME:Shore Builders Association of Central NJ, Inc.
X-ORIGINAL-URL:https://shorebuilders.org
X-WR-CALDESC:Events for Shore Builders Association of Central NJ, Inc.
REFRESH-INTERVAL;VALUE=DURATION:PT1H
X-Robots-Tag:noindex
X-PUBLISHED-TTL:PT1H
BEGIN:VTIMEZONE
TZID:UTC
BEGIN:STANDARD
TZOFFSETFROM:+0000
TZOFFSETTO:+0000
TZNAME:UTC
DTSTART:20210101T000000
END:STANDARD
END:VTIMEZONE
BEGIN:VEVENT
DTSTART;TZID=UTC:20210713T093000
DTEND;TZID=UTC:20210713T103000
DTSTAMP:20260421T214924
CREATED:20201111T143243Z
LAST-MODIFIED:20201111T154323Z
UID:1087-1626168600-1626172200@shorebuilders.org
SUMMARY:PWB of the Garden State Council Meeting
DESCRIPTION:
URL:https://shorebuilders.org/event/pwb-of-the-garden-state-council-meeting-11/
CATEGORIES:Committee Meetings,Member Events,Professional Women in Building
ATTACH;FMTTYPE=image/jpeg:https://shorebuilders.org/wp-content/uploads/2019/04/pwb-placeholder.jpg
END:VEVENT
BEGIN:VEVENT
DTSTART;TZID=UTC:20210715T180000
DTEND;TZID=UTC:20210715T210000
DTSTAMP:20260421T214924
CREATED:20201028T161519Z
LAST-MODIFIED:20210607T152409Z
UID:1066-1626372000-1626382800@shorebuilders.org
SUMMARY:SBACNJ Annual BBQ on the Beach
DESCRIPTION:We are going back to the beach and we couldn’t be happier! \nWe have limited sponsorship opportunities for the event so click the 2021 Martell’s sponsor form to see and get your company name out there. \nRegistration is now OPEN to attend.  Please join us at the biggest networking event of the year\, by clicking the 2021 Registration for Martells
URL:https://shorebuilders.org/event/sbacnj-annual-bbq-on-the-beach/
LOCATION:Martell’s Tiki Bar\, Point Pleasant Beach\, NJ
CATEGORIES:Member Events
END:VEVENT
END:VCALENDAR