BEGIN:VCALENDAR
VERSION:2.0
PRODID:-//Shore Builders Association of Central NJ, Inc. - ECPv6.8.3//NONSGML v1.0//EN
CALSCALE:GREGORIAN
METHOD:PUBLISH
X-ORIGINAL-URL:https://shorebuilders.org
X-WR-CALDESC:Events for Shore Builders Association of Central NJ, Inc.
REFRESH-INTERVAL;VALUE=DURATION:PT1H
X-Robots-Tag:noindex
X-PUBLISHED-TTL:PT1H
BEGIN:VTIMEZONE
TZID:UTC
BEGIN:STANDARD
TZOFFSETFROM:+0000
TZOFFSETTO:+0000
TZNAME:UTC
DTSTART:20210101T000000
END:STANDARD
END:VTIMEZONE
BEGIN:VEVENT
DTSTART;TZID=UTC:20211103T083000
DTEND;TZID=UTC:20211103T093000
DTSTAMP:20260421T152400
CREATED:20201111T144153Z
LAST-MODIFIED:20201111T144153Z
UID:1105-1635928200-1635931800@shorebuilders.org
SUMMARY:Legal\, Legislative & Environmental Committee Meeting
DESCRIPTION:
URL:https://shorebuilders.org/event/legal-legislative-environmental-committee-meeting-2/
CATEGORIES:Committee Meetings,Member Events
END:VEVENT
END:VCALENDAR