BEGIN:VCALENDAR
VERSION:2.0
PRODID:-//Shore Builders Association of Central NJ, Inc. - ECPv6.8.3//NONSGML v1.0//EN
CALSCALE:GREGORIAN
METHOD:PUBLISH
X-WR-CALNAME:Shore Builders Association of Central NJ, Inc.
X-ORIGINAL-URL:https://shorebuilders.org
X-WR-CALDESC:Events for Shore Builders Association of Central NJ, Inc.
REFRESH-INTERVAL;VALUE=DURATION:PT1H
X-Robots-Tag:noindex
X-PUBLISHED-TTL:PT1H
BEGIN:VTIMEZONE
TZID:UTC
BEGIN:STANDARD
TZOFFSETFROM:+0000
TZOFFSETTO:+0000
TZNAME:UTC
DTSTART:20210101T000000
END:STANDARD
END:VTIMEZONE
BEGIN:VEVENT
DTSTART;TZID=UTC:20211208T180000
DTEND;TZID=UTC:20211208T220000
DTSTAMP:20260421T134157
CREATED:20201028T161639Z
LAST-MODIFIED:20211028T143931Z
UID:1068-1638986400-1639000800@shorebuilders.org
SUMMARY:SBACNJ Installation & Holiday Party
DESCRIPTION:We hope you will join us at our Installation & Holiday Party when we will be installing our 2022 President\, James Pittenger and the 2022 Officers and Board of Directors. \nYou can access the registration form 2021 Installation Invitation
URL:https://shorebuilders.org/event/sbacnj-anniversary-gala/
LOCATION:Spring Lake Manor
CATEGORIES:Member Events
END:VEVENT
BEGIN:VEVENT
DTSTART;TZID=UTC:20211214T163000
DTEND;TZID=UTC:20211214T183000
DTSTAMP:20260421T134157
CREATED:20201111T143748Z
LAST-MODIFIED:20211112T202752Z
UID:1095-1639499400-1639506600@shorebuilders.org
SUMMARY:PWB of the Garden State Council Meeting
DESCRIPTION:PWB of the Garden State Open House and Leukemia & Lymphoma Society Fundraiser \nContact the SBACNJ Office at 732-364-2828 or contact Christine@shorebuilders.org to register to attend
URL:https://shorebuilders.org/event/pwb-of-the-garden-state-council-meeting-15/
CATEGORIES:Committee Meetings,Member Events,Professional Women in Building
ATTACH;FMTTYPE=image/jpeg:https://shorebuilders.org/wp-content/uploads/2019/04/pwb-placeholder.jpg
END:VEVENT
END:VCALENDAR