BEGIN:VCALENDAR
VERSION:2.0
PRODID:-//Shore Builders Association of Central NJ, Inc. - ECPv6.8.3//NONSGML v1.0//EN
CALSCALE:GREGORIAN
METHOD:PUBLISH
X-WR-CALNAME:Shore Builders Association of Central NJ, Inc.
X-ORIGINAL-URL:https://shorebuilders.org
X-WR-CALDESC:Events for Shore Builders Association of Central NJ, Inc.
REFRESH-INTERVAL;VALUE=DURATION:PT1H
X-Robots-Tag:noindex
X-PUBLISHED-TTL:PT1H
BEGIN:VTIMEZONE
TZID:UTC
BEGIN:STANDARD
TZOFFSETFROM:+0000
TZOFFSETTO:+0000
TZNAME:UTC
DTSTART:20210101T000000
END:STANDARD
END:VTIMEZONE
BEGIN:VEVENT
DTSTART;TZID=UTC:20210810T093000
DTEND;TZID=UTC:20210810T103000
DTSTAMP:20260421T214934
CREATED:20201111T143616Z
LAST-MODIFIED:20201111T154258Z
UID:1089-1628587800-1628591400@shorebuilders.org
SUMMARY:PWB of the Garden State Council Meeting
DESCRIPTION:
URL:https://shorebuilders.org/event/pwb-of-the-garden-state-council-meeting-12/
CATEGORIES:Committee Meetings,Member Events,Professional Women in Building
ATTACH;FMTTYPE=image/jpeg:https://shorebuilders.org/wp-content/uploads/2019/04/pwb-placeholder.jpg
END:VEVENT
END:VCALENDAR