BEGIN:VCALENDAR
VERSION:2.0
PRODID:-//Shore Builders Association of Central NJ, Inc. - ECPv6.8.3//NONSGML v1.0//EN
CALSCALE:GREGORIAN
METHOD:PUBLISH
X-WR-CALNAME:Shore Builders Association of Central NJ, Inc.
X-ORIGINAL-URL:https://shorebuilders.org
X-WR-CALDESC:Events for Shore Builders Association of Central NJ, Inc.
REFRESH-INTERVAL;VALUE=DURATION:PT1H
X-Robots-Tag:noindex
X-PUBLISHED-TTL:PT1H
BEGIN:VTIMEZONE
TZID:UTC
BEGIN:STANDARD
TZOFFSETFROM:+0000
TZOFFSETTO:+0000
TZNAME:UTC
DTSTART:20230101T000000
END:STANDARD
END:VTIMEZONE
BEGIN:VEVENT
DTSTART;TZID=UTC:20260211T160000
DTEND;TZID=UTC:20260211T180000
DTSTAMP:20260421T044603
CREATED:20260107T180914Z
LAST-MODIFIED:20260107T180914Z
UID:3025-1770825600-1770832800@shorebuilders.org
SUMMARY:SBACNJ Builder Roundtable
DESCRIPTION:
URL:https://shorebuilders.org/event/sbacnj-builder-roundtable/
CATEGORIES:Member Events
END:VEVENT
BEGIN:VEVENT
DTSTART;TZID=UTC:20260204T090000
DTEND;TZID=UTC:20260204T113000
DTSTAMP:20260421T044603
CREATED:20251029T150402Z
LAST-MODIFIED:20260105T134211Z
UID:2967-1770195600-1770204600@shorebuilders.org
SUMMARY:SBACNJ - Economic Forecast
DESCRIPTION:February 4 Breakfast Registration
URL:https://shorebuilders.org/event/sbacnj-economic-forecast/
LOCATION:Jumping Brook Country Club\, 210 Jumping Brook Road\, Neptune\, 07753\, United States
CATEGORIES:Member Events
END:VEVENT
BEGIN:VEVENT
DTSTART;TZID=UTC:20260122T170000
DTEND;TZID=UTC:20260122T180000
DTSTAMP:20260421T044603
CREATED:20260107T135413Z
LAST-MODIFIED:20260107T135413Z
UID:3020-1769101200-1769104800@shorebuilders.org
SUMMARY:PWB of the Garden State
DESCRIPTION:PWB of the Garden State 2026 Kick-Off Meeting followed by Cake Wars starting at 6pm. \nRSVPs are required to christine@shorebuilders.org \n$25 to participate in Cake Wars.
URL:https://shorebuilders.org/event/pwb-of-the-garden-state-9/
CATEGORIES:Professional Women in Building
END:VEVENT
BEGIN:VEVENT
DTSTART;TZID=UTC:20251211T180000
DTEND;TZID=UTC:20251211T200000
DTSTAMP:20260421T044603
CREATED:20241112T213150Z
LAST-MODIFIED:20251110T123420Z
UID:2528-1765476000-1765483200@shorebuilders.org
SUMMARY:SBACNJ Installation & Holiday Party
DESCRIPTION:Come join us at our Installation & Holiday Party. \nRegister by using the 2025 Installation Invitation
URL:https://shorebuilders.org/event/sbacnj-holiday-party/
LOCATION:Jumping Brook Country Club\, 210 Jumping Brook Road\, Neptune\, 07753\, United States
CATEGORIES:Member Events
END:VEVENT
BEGIN:VEVENT
DTSTART;TZID=UTC:20251204T123000
DTEND;TZID=UTC:20251204T133000
DTSTAMP:20260421T044603
CREATED:20251031T142509Z
LAST-MODIFIED:20251110T123230Z
UID:2976-1764851400-1764855000@shorebuilders.org
SUMMARY:SBACNJ Free Virtual Lunch and Learn Seminar - ICE on the Jobsite
DESCRIPTION:What to do if Immigration and Customs Enforcement agents visit your facility or Jobsite\nGet answers and best practices to ensure compliance with\nI-9 regulations during this informative webinar. \nIf you would like to participate\, please use the form ICE Webinar \nor email christine@shorebuilders.org
URL:https://shorebuilders.org/event/sbacnj-free-virtual-lunch-and-learn-seminar-ice-on-the-jobsite/
CATEGORIES:Member Events
END:VEVENT
BEGIN:VEVENT
DTSTART;TZID=UTC:20251120T173000
DTEND;TZID=UTC:20251120T200000
DTSTAMP:20260421T044603
CREATED:20250818T143905Z
LAST-MODIFIED:20251029T151257Z
UID:2914-1763659800-1763668800@shorebuilders.org
SUMMARY:PWB/YP Networking Happy Hour - Fireside Connections
DESCRIPTION:
URL:https://shorebuilders.org/event/yp-networking-happy-hour/
LOCATION:All County\, 560 Cross Street\, Lakewood\, NJ\, 08701\, United States
CATEGORIES:Member Events
END:VEVENT
BEGIN:VEVENT
DTSTART;TZID=UTC:20251106T163000
DTEND;TZID=UTC:20251106T183000
DTSTAMP:20260421T044603
CREATED:20240417T171158Z
LAST-MODIFIED:20251106T210008Z
UID:2054-1762446600-1762453800@shorebuilders.org
SUMMARY:Associate Sponsor Builder Only Product Showcase
DESCRIPTION:Exclusively for Builders\, Designers and Contractors. \n 
URL:https://shorebuilders.org/event/associate-sponsor-builder-only-product-showcase/
LOCATION:Jumping Brook Country Club\, 210 Jumping Brook Road\, Neptune\, 07753\, United States
CATEGORIES:Member Events
END:VEVENT
BEGIN:VEVENT
DTSTART;TZID=UTC:20250924T180000
DTEND;TZID=UTC:20250924T200000
DTSTAMP:20260421T044603
CREATED:20250818T144005Z
LAST-MODIFIED:20250818T144005Z
UID:2917-1758736800-1758744000@shorebuilders.org
SUMMARY:PWB - Cake Wars
DESCRIPTION:
URL:https://shorebuilders.org/event/pwb-cake-wars/
LOCATION:Ferguson Enterprises\, 190 Oberlin Avenue\, Lakewood\, 08701\, United States
CATEGORIES:Member Events,Professional Women in Building
END:VEVENT
BEGIN:VEVENT
DTSTART;TZID=UTC:20250619T173000
DTEND;TZID=UTC:20250619T193000
DTSTAMP:20260421T044603
CREATED:20250520T154934Z
LAST-MODIFIED:20250528T181755Z
UID:2896-1750354200-1750361400@shorebuilders.org
SUMMARY:Young Professionals Networking Mixer
DESCRIPTION:
URL:https://shorebuilders.org/event/young-professionals-networking-mixer/
LOCATION:The Dome at Adventure Crossing\, 515 Monmouth Road\, Bldg. 200\, Jackson\, NJ\, 08527\, United States
END:VEVENT
BEGIN:VEVENT
DTSTART;TZID=UTC:20250508T180000
DTEND;TZID=UTC:20250508T210000
DTSTAMP:20260421T044603
CREATED:20240422T182237Z
LAST-MODIFIED:20241029T174445Z
UID:2060-1746727200-1746738000@shorebuilders.org
SUMMARY:Annual FAME Awards
DESCRIPTION:
URL:https://shorebuilders.org/event/annual-fame-awards-2/
END:VEVENT
BEGIN:VEVENT
DTSTART;TZID=UTC:20250508T180000
DTEND;TZID=UTC:20250508T210000
DTSTAMP:20260421T044603
CREATED:20240423T170341Z
LAST-MODIFIED:20240423T170341Z
UID:2066-1746727200-1746738000@shorebuilders.org
SUMMARY:Annual FAME Awards
DESCRIPTION:Annual FAME Awards
URL:https://shorebuilders.org/event/annual-fame-awards-3/
LOCATION:South Gate Manor\, 260 South Street\, Freehold\, NJ\, 07728
CATEGORIES:Member Events
END:VEVENT
BEGIN:VEVENT
DTSTART;TZID=UTC:20250206T090000
DTEND;TZID=UTC:20250206T110000
DTSTAMP:20260421T044603
CREATED:20250106T165642Z
LAST-MODIFIED:20250106T165642Z
UID:2590-1738832400-1738839600@shorebuilders.org
SUMMARY:SBACNJ Breakfast Meeting
DESCRIPTION:Join us to discuss the proposed revisions to the State Plan and what the projected housing numbers will be under this revision. \nGuest speaker is Walter C. Lane who currently serves as the Deputy Director of the New Jersey Office of Planning Advocacy where he supports the Executive Director\, State Planning Commission and staff to advance Implementation of State Development and Redevelopment Plan and works on a wide range of smart growth planning efforts. \nTo attend\, please use the February 6 Breakfast Registration form \n  \n 
URL:https://shorebuilders.org/event/sbacnj-breakfast-meeting/
LOCATION:Jumping Brook Country Club\, 210 Jumping Brook Road\, Neptune\, 07753\, United States
END:VEVENT
BEGIN:VEVENT
DTSTART;TZID=UTC:20250123T120000
DTEND;TZID=UTC:20250123T130000
DTSTAMP:20260421T044603
CREATED:20250103T165125Z
LAST-MODIFIED:20250115T012745Z
UID:2584-1737633600-1737637200@shorebuilders.org
SUMMARY:Free Mental Health Webinar
DESCRIPTION:Statistics show that the building and construction industry are more impacted by substance abuse and mental health than most other industries. Kokes Properties has put together a free webinar in partnership with Preferred Behavioral Health\, to review the topic\, share ways to identify these issues directly\, and some methods of addressing them. Share this very important webinar opportunity with your HR Department. \n \n  \n30 minute Zoom presentation followed by 15 minutes of Q&A \nTopic will cover the current state of our industry\, identifying mental health and substance abuse\, and the resources for addressing these issues. \nCall in information will be provided upon registration confirmation.  If you are interested in participating\, please contact christine@shorebuilders.org
URL:https://shorebuilders.org/event/free-mental-health-webinar/
CATEGORIES:Member Events
END:VEVENT
BEGIN:VEVENT
DTSTART;TZID=UTC:20241204T180000
DTEND;TZID=UTC:20241204T210000
DTSTAMP:20260421T044603
CREATED:20221107T152217Z
LAST-MODIFIED:20241112T155221Z
UID:1702-1733335200-1733346000@shorebuilders.org
SUMMARY:SBACNJ Holiday Party
DESCRIPTION:
URL:https://shorebuilders.org/event/sbacnj-annual-holiday-party/
LOCATION:Ferguson Enterprises\, 190 Oberlin Avenue\, Lakewood\, 08701\, United States
CATEGORIES:Member Events
END:VEVENT
BEGIN:VEVENT
DTSTART;TZID=UTC:20241107T170000
DTEND;TZID=UTC:20241107T190000
DTSTAMP:20260421T044603
CREATED:20241029T174724Z
LAST-MODIFIED:20241029T174724Z
UID:2521-1730998800-1731006000@shorebuilders.org
SUMMARY:PWB/YP Mixer
DESCRIPTION:
URL:https://shorebuilders.org/event/pwb-yp-mixer/
LOCATION:All County\, 560 Cross Street\, Lakewood\, NJ\, 08701\, United States
END:VEVENT
BEGIN:VEVENT
DTSTART;TZID=UTC:20240926T173000
DTEND;TZID=UTC:20240926T193000
DTSTAMP:20260421T044603
CREATED:20240819T093727Z
LAST-MODIFIED:20240819T134016Z
UID:1330-1727371800-1727379000@shorebuilders.org
SUMMARY:SBACNJ Oktoberfest
DESCRIPTION:Be sure to join us at Oktoberfest on Thursday\, September 26th at the Kohler Signature Store by GPS. \nWe will be raffling off a basket of cheer with the proceeds going towards our holiday gift to Collier House. \nTo attend\, please use the registration form Oktoberfest 2024
URL:https://shorebuilders.org/event/oktoberfest/
LOCATION:Kohler Signature Store\, 158 Route 35\, Eatontown\, NJ
CATEGORIES:Member Events
END:VEVENT
BEGIN:VEVENT
DTSTART;TZID=UTC:20240718T180000
DTEND;TZID=UTC:20240718T210000
DTSTAMP:20260421T044603
CREATED:20240605T134955Z
LAST-MODIFIED:20240709T174127Z
UID:2356-1721325600-1721336400@shorebuilders.org
SUMMARY:Annual BBQ on the Beach
DESCRIPTION:Registration is now open for our biggest networking event of the year! \nTo attend\, please use the  2024 Registration for Martells \n 
URL:https://shorebuilders.org/event/annual-bbq-on-the-beach-2/
LOCATION:Martell’s Tiki Bar\, Point Pleasant Beach\, NJ
END:VEVENT
BEGIN:VEVENT
DTSTART;TZID=UTC:20240617T073000
DTEND;TZID=UTC:20240617T140000
DTSTAMP:20260421T044603
CREATED:20220106T144314Z
LAST-MODIFIED:20240422T153250Z
UID:1291-1718609400-1718632800@shorebuilders.org
SUMMARY:Annual Golf Outing
DESCRIPTION:Sponsorships are now available for our Annual Golf Outing. \n2024 Golf Sponsorship Flyer
URL:https://shorebuilders.org/event/annual-golf-outing-2/
LOCATION:Jumping Brook Country Club\, 210 Jumping Brook Road\, Neptune\, 07753\, United States
CATEGORIES:Member Events
END:VEVENT
BEGIN:VEVENT
DTSTART;TZID=UTC:20240617T070000
DTEND;TZID=UTC:20240617T150000
DTSTAMP:20260421T044603
CREATED:20240513T133649Z
LAST-MODIFIED:20240530T144610Z
UID:2345-1718607600-1718636400@shorebuilders.org
SUMMARY:SBACNJ Annual Golf Outing
DESCRIPTION:The event is SOLD OUT! \nBe sure to mark your calendar for the next event\, our Annual BBQ on the Beach at Martell’s Tiki Bar in Pt. Pleasant Beach\, Thursday\, July 18th \nKeep an eye out in Memberlinks for Sponsorship/Registration information. \n 
URL:https://shorebuilders.org/event/sbacnj-annual-golf-outing-3/
LOCATION:Jumping Brook Country Club\, 210 Jumping Brook Road\, Neptune\, 07753\, United States
CATEGORIES:Member Events
END:VEVENT
BEGIN:VEVENT
DTSTART;TZID=UTC:20240516T180000
DTEND;TZID=UTC:20240516T200000
DTSTAMP:20260421T044603
CREATED:20240422T182410Z
LAST-MODIFIED:20240508T160052Z
UID:2064-1715882400-1715889600@shorebuilders.org
SUMMARY:PWB Team Building
DESCRIPTION:Registration is required.  $25 per person. \nPlease contact christine@shorebuilders.org if interested in attending. \nMax number of participates will be 40 attendees. Don’t wait and possibly miss out \n Ferguson has hired Liquid Labs to run the cocktail stations/classes. \n 6:00pm- Guest arrival and check in- lite food and nonalcoholic beverages will be provided because the event is alcohol based. \n6:15pm-6:30pm-Presentation by – BSH our sponsoring vendor partner \n6:30pm- Guests will be broken into groups  \n6:30pm-8:00pm-4 drink station classes and contest  \n8:00pm- Winner prizes and wrap up!
URL:https://shorebuilders.org/event/pwb-team-building/
CATEGORIES:Member Events,Professional Women in Building
END:VEVENT
BEGIN:VEVENT
DTSTART;TZID=UTC:20240516T173000
DTEND;TZID=UTC:20240516T200000
DTSTAMP:20260421T044603
CREATED:20240508T154611Z
LAST-MODIFIED:20240508T155711Z
UID:2338-1715880600-1715889600@shorebuilders.org
SUMMARY:Young Professionals Happy Hour
DESCRIPTION:Pay as you go Happy Hour organized by the Young Professionals \nLocation TBD
URL:https://shorebuilders.org/event/young-professionals-happy-hour-2/
END:VEVENT
BEGIN:VEVENT
DTSTART;TZID=UTC:20240516T170000
DTEND;TZID=UTC:20240516T180000
DTSTAMP:20260421T044603
CREATED:20240422T182334Z
LAST-MODIFIED:20240422T182344Z
UID:2062-1715878800-1715882400@shorebuilders.org
SUMMARY:PWB Council Meeting
DESCRIPTION:
URL:https://shorebuilders.org/event/pwb-council-meeting/
CATEGORIES:Member Events,Professional Women in Building
END:VEVENT
BEGIN:VEVENT
DTSTART;TZID=UTC:20240425T170000
DTEND;TZID=UTC:20240425T190000
DTSTAMP:20260421T044603
CREATED:20231214T202714Z
LAST-MODIFIED:20240417T170843Z
UID:1945-1714064400-1714071600@shorebuilders.org
SUMMARY:YP Happy Hour
DESCRIPTION:Pay as you go Happy Hour organized by the Young Professionals
URL:https://shorebuilders.org/event/yp-happy-hour-3/
LOCATION:Half Moon Point\, 2154 Bridge Ave\, Point Pleasant\, NJ\, 08742\, United States
END:VEVENT
BEGIN:VEVENT
DTSTART;TZID=UTC:20240418T180000
DTEND;TZID=UTC:20240418T210000
DTSTAMP:20260421T044603
CREATED:20240315T094218Z
LAST-MODIFIED:20240315T135014Z
UID:1289-1713463200-1713474000@shorebuilders.org
SUMMARY:Annual FAME Awards
DESCRIPTION:Registration is now Open to attend the Annual FAME Awards. \nUse the 2024 FAME Registration form to secure your spot.
URL:https://shorebuilders.org/event/annual-fame-awards/
LOCATION:South Gate Manor\, 260 South Street\, Freehold\, NJ\, 07728
CATEGORIES:Member Events
END:VEVENT
BEGIN:VEVENT
DTSTART;TZID=UTC:20240124T090000
DTEND;TZID=UTC:20240124T110000
DTSTAMP:20260421T044603
CREATED:20231220T164636Z
LAST-MODIFIED:20240117T142407Z
UID:1951-1706086800-1706094000@shorebuilders.org
SUMMARY:2024 Economic Forecast
DESCRIPTION:Register now for our Annual Economic Forecast. \nJan 24 Economic Forecast
URL:https://shorebuilders.org/event/2024-economic-forecast/
LOCATION:Jumping Brook Country Club\, 210 Jumping Brook Road\, Neptune\, 07753\, United States
END:VEVENT
BEGIN:VEVENT
DTSTART;TZID=UTC:20240111T173000
DTEND;TZID=UTC:20240111T193000
DTSTAMP:20260421T044603
CREATED:20231214T184534Z
LAST-MODIFIED:20231214T184534Z
UID:1941-1704994200-1705001400@shorebuilders.org
SUMMARY:PWB/YP Happy Hour and Headshots
DESCRIPTION:Join us January 11th for our first event of 2024. PWB and YP joint Happy Hour and Headshots. 5:30-7:30 at the Beach Haus in Belmar. $50 per person includes food (sliders\, pretzels and pizza) one drink ticket and an opportunity to have your headshot taken. This event is strictly limited to 50 attendees and RSVP’s are mandatory. Please contact christine@shorebuilders.org to register. \nWe are looking for 3 sponsors to help offset the cost of this event. $500 (includes one ticket to the event\, recognition signage at the event\, table for marketing materials). If you are interested in sponsoring\, please contact christine@shorebuilders.org. \n 
URL:https://shorebuilders.org/event/pwb-yp-happy-hour-and-headshots/
LOCATION:beach haus brewery\, Belmar\, United States
CATEGORIES:Member Events,Professional Women in Building
END:VEVENT
BEGIN:VEVENT
DTSTART;TZID=UTC:20231101T160000
DTEND;TZID=UTC:20231101T183000
DTSTAMP:20260421T044603
CREATED:20231023T135411Z
LAST-MODIFIED:20231023T145721Z
UID:1889-1698854400-1698863400@shorebuilders.org
SUMMARY:Professional Women in Building of the Garden State Council Meeting/Open House
DESCRIPTION:RSVPs are requested to attend.
URL:https://shorebuilders.org/event/professional-women-in-building-of-the-garden-state-council-meeting-open-house/
CATEGORIES:Committee Meetings,Member Events,Professional Women in Building
END:VEVENT
BEGIN:VEVENT
DTSTART;TZID=UTC:20231004T160000
DTEND;TZID=UTC:20231004T180000
DTSTAMP:20260421T044603
CREATED:20230905T132619Z
LAST-MODIFIED:20230905T133633Z
UID:1839-1696435200-1696442400@shorebuilders.org
SUMMARY:SBACNJ Seminar:  Money Talks! - Making Money with Other People's Money
DESCRIPTION:Money Talks!\nMaking Money with Other People’s Money…\nTopics will include:\n• Project Financing\n• Raising Private Capital\n$50 Per Person – light snacks and your first drink included!\n$50. Per Person (Limited to 50)\nReservation Form:  Money Talks Flyer \nSpeakers\n• Stacey Kavanagh\nProvident Bank\nFirst Vice President – Market Manager\n• Stan Koreyva\nOcean First Bank\nExecutive Vice President\nDirector of Commercial Construction and Real Estate\n• Robert Beni\nAmboy Bank\nSenior Vice President\, Commercial Lending\n• Shane Sorrano\nAST Financial\nDirector \nThank you to our sponsors Wiss & Company and LG Insurance.  If you are interested in sponsoring this workshop\, -please contact Gina via email:  gina@shorebuilders.org \n 
URL:https://shorebuilders.org/event/sbacnj-seminar-money-talks-making-money-with-other-peoples-money/
LOCATION:beach haus brewery\, Belmar\, United States
CATEGORIES:Member Events
END:VEVENT
BEGIN:VEVENT
DTSTART;TZID=UTC:20230921T173000
DTEND;TZID=UTC:20230921T193000
DTSTAMP:20260421T044603
CREATED:20230814T135016Z
LAST-MODIFIED:20230918T140113Z
UID:1829-1695317400-1695324600@shorebuilders.org
SUMMARY:SBACNJ-PAC Fundraiser - Thursday\, September 21
DESCRIPTION:Come join us at a private residence on the picturesque Manasquan River in support of the SBACNJ-PAC. \nAttendees are limited to 100 guests so don’t wait\, use the 2023 Registration Flyer to secure your spot. \nThank you to Insignia Signs & Wraps\, Shore Hills Painting\, Padula Builders\, Pittenger Builders\, Builders General Supply\, FWH Associates\,  General Plumbing Supply\, Palladium Homes and Jackson Development Company for sponsoring this event.
URL:https://shorebuilders.org/event/sbacnj-pac-fundraiser-thursday-september-21/
END:VEVENT
BEGIN:VEVENT
DTSTART;TZID=UTC:20230518T173000
DTEND;TZID=UTC:20230518T190000
DTSTAMP:20260421T044603
CREATED:20230420T152132Z
LAST-MODIFIED:20230420T152132Z
UID:1767-1684431000-1684436400@shorebuilders.org
SUMMARY:YP Happy Hour
DESCRIPTION:Come join the Young Professionals for Happy Hour at: \nWater Street Bar and Grille\, 4 Robbins Parkway\, Toms River \nPay as you go\, stay for 5 minutes or stay a while. \nRSVPs are not required but appreciated.  You may RSVP to christine@shorebuilders.org
URL:https://shorebuilders.org/event/yp-happy-hour-2/
CATEGORIES:Member Events
END:VEVENT
END:VCALENDAR